BEGIN:VCALENDAR
VERSION:2.0
CALSCALE:GREGORIAN
PRODID:-//Diputació de Barcelona//DibaCMS//EN
BEGIN:VEVENT
UID:967
DTSTAMP:20260421T105152
DTSTART:20220529T080000
DTEND:20220529T180000
SUMMARY:Gran Fondo de Calella
LOCATION:
METHOD:PUBLISH
X-WR-CALNAME:fogarsm@fogarsdemontclus.cat
X-WR-TIMEZONE:Europe/Madrid
DESCRIPTION:El Club Esportiu Sport 360 organitza la 9a edició de la cursa ciclista Gran Fondo de Calella.

+ informació

URI:https://www.fogarsdemontclus.cat/actualitat/agenda/gran-fondo-de-calella.html
CLASS:PUBLIC
END:VEVENT
END:VCALENDAR
