BEGIN:VCALENDAR
VERSION:2.0
CALSCALE:GREGORIAN
PRODID:-//Diputació de Barcelona//DibaCMS//EN
BEGIN:VEVENT
UID:1936
DTSTAMP:20260420T145221
DTSTART:20260420T010000
DTEND:20270330T000000
SUMMARY:Obert el termini de subvencions per al pagament del lloguer per a persones entre 36 i 64 anys
LOCATION:
METHOD:PUBLISH
X-WR-CALNAME:fogarsm@fogarsdemontclus.cat
X-WR-TIMEZONE:Europe/Madrid
DESCRIPTION:La Generalitat de Catalunya ha obert la convocatòria d'ajuts per a persones d'entre 36 i 64 anys amb pocs recursos que visquin de lloguer.

Per a més informació o presentació de sol·licituds, podeu adreçar-vos a Subvencions per al pagament de lloguer o cessió d'ús. Tràmits Gencat o a l' Agència de l'Habitatge de Catalunya 

URI:https://www.fogarsdemontclus.cat/actualitat/noticies/obert-el-termini-de-subvencions-per-al-pagament-del-lloguer-per-a-persones-entre-36-i-64-anys.html
CLASS:PUBLIC
END:VEVENT
END:VCALENDAR
