BEGIN:VCALENDAR
VERSION:2.0
CALSCALE:GREGORIAN
PRODID:-//Diputació de Barcelona//DibaCMS//EN
BEGIN:VEVENT
UID:1902
DTSTAMP:20260421T175428
DTSTART:20260411T080000
DTEND:20260411T180000
SUMMARY:Cursa La Ultra del Montseny
LOCATION:
METHOD:PUBLISH
X-WR-CALNAME:fogarsm@fogarsdemontclus.cat
X-WR-TIMEZONE:Europe/Madrid
DESCRIPTION:L'Associació Esportiva Montseny organitza la cursa La Ultra del Montseny.

Més informació

URI:https://www.fogarsdemontclus.cat/actualitat/agenda/1902-cursa-la-ultra-del-montseny.html
CLASS:PUBLIC
END:VEVENT
END:VCALENDAR
