BEGIN:VCALENDAR
VERSION:2.0
CALSCALE:GREGORIAN
PRODID:-//Diputació de Barcelona//DibaCMS//EN
BEGIN:VEVENT
UID:1772
DTSTAMP:20260422T115827
DTSTART:20251013T000000
DTEND:20261013T000000
SUMMARY:La Costanyada 2025
LOCATION:
METHOD:PUBLISH
X-WR-CALNAME:fogarsm@fogarsdemontclus.cat
X-WR-TIMEZONE:Europe/Madrid
DESCRIPTION:El divendres 31 d'octubre celebrem la castanyada a La Costa del Montseny, organitzada per l'Ajuntament de Fogars de Montclús amb la col.laboració de Diputació de Barcelona.

Consulta el programa de la Costanyada.

URI:https://www.fogarsdemontclus.cat/actualitat/noticies/la-costanyada-2025.html
CLASS:PUBLIC
END:VEVENT
END:VCALENDAR
