BEGIN:VCALENDAR
VERSION:2.0
CALSCALE:GREGORIAN
PRODID:-//Diputació de Barcelona//DibaCMS//EN
BEGIN:VEVENT
UID:1132
DTSTAMP:20260421T101047
DTSTART:20230319T080000
DTEND:20230319T180000
SUMMARY:Gran Fondo Calella
LOCATION:
METHOD:PUBLISH
X-WR-CALNAME:fogarsm@fogarsdemontclus.cat
X-WR-TIMEZONE:Europe/Madrid
DESCRIPTION:El Club Esportiu Sport 360 organitza una nova edició de la prova cicloturista Gran Fondo Calella.

Més informació

 

URI:https://www.fogarsdemontclus.cat/actualitat/agenda/gran-fondo-calella.html
CLASS:PUBLIC
END:VEVENT
END:VCALENDAR
