BEGIN:VCALENDAR
VERSION:2.0
CALSCALE:GREGORIAN
PRODID:-//Diputació de Barcelona//DibaCMS//EN
BEGIN:VEVENT
UID:1084
DTSTAMP:20260422T150228
DTSTART:20221220T171500
DTEND:20221220T181500
SUMMARY:Classes de ball - duplicat - duplicat - duplicat
LOCATION:
METHOD:PUBLISH
X-WR-CALNAME:fogarsm@fogarsdemontclus.cat
X-WR-TIMEZONE:Europe/Madrid
DESCRIPTION:Més informació 

URI:https://www.fogarsdemontclus.cat/actualitat/agenda/classes-de-ball-duplicat-duplicat-duplicat.html
CLASS:PUBLIC
END:VEVENT
END:VCALENDAR
