BEGIN:VCALENDAR
VERSION:2.0
CALSCALE:GREGORIAN
PRODID:-//Diputació de Barcelona//DibaCMS//EN
BEGIN:VEVENT
UID:1072
DTSTAMP:20260424T070819
DTSTART:20221107T190000
DTEND:20221107T201500
SUMMARY:Taller de dansa per a joves 
LOCATION:
METHOD:PUBLISH
X-WR-CALNAME:fogarsm@fogarsdemontclus.cat
X-WR-TIMEZONE:Europe/Madrid
DESCRIPTION:Més informació

URI:https://www.fogarsdemontclus.cat/actualitat/agenda/taller-de-dansa-per-a-joves-.html
CLASS:PUBLIC
END:VEVENT
END:VCALENDAR
