BEGIN:VCALENDAR
VERSION:2.0
CALSCALE:GREGORIAN
PRODID:-//Diputació de Barcelona//DibaCMS//EN
BEGIN:VEVENT
UID:1067
DTSTAMP:20260424T082803
DTSTART:20220921T010000
DTEND:20230921T000000
SUMMARY:Taller de dansa per a joves
LOCATION:
METHOD:PUBLISH
X-WR-CALNAME:fogarsm@fogarsdemontclus.cat
X-WR-TIMEZONE:Europe/Madrid
DESCRIPTION:L'Ajuntament de Fogars de Montclús, amb la col.laboració de Diputació de Barcelona, organitza aquest taller de dansa.

Inici de les classes: 10 d'octubre

Horari: de 19 h a 20.15 h

Lloc: local Jaume Cullell de La Costa

Més informació

URI:https://www.fogarsdemontclus.cat/actualitat/noticies/1067-taller-de-dansa-per-a-joves.html
CLASS:PUBLIC
END:VEVENT
END:VCALENDAR
